BEGIN:VCALENDAR
VERSION:2.0
PRODID:-//Faculty of Medicine - ECPv6.15.15//NONSGML v1.0//EN
CALSCALE:GREGORIAN
METHOD:PUBLISH
X-WR-CALNAME:Faculty of Medicine
X-ORIGINAL-URL:https://medical-studies-in-english.com
X-WR-CALDESC:Events for Faculty of Medicine
REFRESH-INTERVAL;VALUE=DURATION:PT1H
X-Robots-Tag:noindex
X-PUBLISHED-TTL:PT1H
BEGIN:VTIMEZONE
TZID:Europe/Zagreb
BEGIN:DAYLIGHT
TZOFFSETFROM:+0100
TZOFFSETTO:+0200
TZNAME:CEST
DTSTART:20220327T010000
END:DAYLIGHT
BEGIN:STANDARD
TZOFFSETFROM:+0200
TZOFFSETTO:+0100
TZNAME:CET
DTSTART:20221030T010000
END:STANDARD
BEGIN:DAYLIGHT
TZOFFSETFROM:+0100
TZOFFSETTO:+0200
TZNAME:CEST
DTSTART:20230326T010000
END:DAYLIGHT
BEGIN:STANDARD
TZOFFSETFROM:+0200
TZOFFSETTO:+0100
TZNAME:CET
DTSTART:20231029T010000
END:STANDARD
BEGIN:DAYLIGHT
TZOFFSETFROM:+0100
TZOFFSETTO:+0200
TZNAME:CEST
DTSTART:20240331T010000
END:DAYLIGHT
BEGIN:STANDARD
TZOFFSETFROM:+0200
TZOFFSETTO:+0100
TZNAME:CET
DTSTART:20241027T010000
END:STANDARD
BEGIN:DAYLIGHT
TZOFFSETFROM:+0100
TZOFFSETTO:+0200
TZNAME:CEST
DTSTART:20250330T010000
END:DAYLIGHT
BEGIN:STANDARD
TZOFFSETFROM:+0200
TZOFFSETTO:+0100
TZNAME:CET
DTSTART:20251026T010000
END:STANDARD
BEGIN:DAYLIGHT
TZOFFSETFROM:+0100
TZOFFSETTO:+0200
TZNAME:CEST
DTSTART:20260329T010000
END:DAYLIGHT
BEGIN:STANDARD
TZOFFSETFROM:+0200
TZOFFSETTO:+0100
TZNAME:CET
DTSTART:20261025T010000
END:STANDARD
END:VTIMEZONE
BEGIN:VEVENT
DTSTART;VALUE=DATE:20240902
DTEND;VALUE=DATE:20240928
DTSTAMP:20260420T034607
CREATED:20240109T083954Z
LAST-MODIFIED:20240109T083954Z
UID:4940-1725235200-1727481599@medical-studies-in-english.com
SUMMARY:Autumn exam period (no classes)
DESCRIPTION:
URL:https://medical-studies-in-english.com/event/autumn-exam-period-no-classes-2/
ATTACH;FMTTYPE=image/jpeg:https://medical-studies-in-english.com/wp-content/uploads/2017/08/academic-calendar.jpg
END:VEVENT
BEGIN:VEVENT
DTSTART;VALUE=DATE:20240830
DTEND;VALUE=DATE:20240831
DTSTAMP:20260420T034607
CREATED:20240109T083912Z
LAST-MODIFIED:20240109T083912Z
UID:4937-1724976000-1725062399@medical-studies-in-english.com
SUMMARY:Deadline for submitting documents for autumn entrance exam
DESCRIPTION:
URL:https://medical-studies-in-english.com/event/deadline-for-submitting-documents-for-autumn-entrance-exam-3/
ATTACH;FMTTYPE=image/jpeg:https://medical-studies-in-english.com/wp-content/uploads/2017/08/academic-calendar.jpg
END:VEVENT
BEGIN:VEVENT
DTSTART;VALUE=DATE:20240812
DTEND;VALUE=DATE:20240813
DTSTAMP:20260420T034607
CREATED:20240109T083805Z
LAST-MODIFIED:20240109T083805Z
UID:4934-1723420800-1723507199@medical-studies-in-english.com
SUMMARY:International Youth Day
DESCRIPTION:
URL:https://medical-studies-in-english.com/event/ainternational-youth-day/
ATTACH;FMTTYPE=image/jpeg:https://medical-studies-in-english.com/wp-content/uploads/2017/08/academic-calendar.jpg
END:VEVENT
BEGIN:VEVENT
DTSTART;TZID=Europe/Zagreb:20240718T090000
DTEND;TZID=Europe/Zagreb:20240719T130000
DTSTAMP:20260420T034607
CREATED:20240109T083702Z
LAST-MODIFIED:20240109T083719Z
UID:4931-1721293200-1721394000@medical-studies-in-english.com
SUMMARY:Enrolment into 1st year ( candidates from spring and summer exam term)
DESCRIPTION:
URL:https://medical-studies-in-english.com/event/enrolment-into-1st-year-candidates-from-spring-and-summer-exam-term-4/
ATTACH;FMTTYPE=image/jpeg:https://medical-studies-in-english.com/wp-content/uploads/2017/08/academic-calendar.jpg
END:VEVENT
BEGIN:VEVENT
DTSTART;TZID=Europe/Zagreb:20240715T080000
DTEND;TZID=Europe/Zagreb:20240715T160000
DTSTAMP:20260420T034607
CREATED:20240109T083556Z
LAST-MODIFIED:20240109T083556Z
UID:4928-1721030400-1721059200@medical-studies-in-english.com
SUMMARY:Results of summer entrance exam
DESCRIPTION:
URL:https://medical-studies-in-english.com/event/results-of-summer-entrance-exam-4/
ATTACH;FMTTYPE=image/jpeg:https://medical-studies-in-english.com/wp-content/uploads/2017/08/academic-calendar.jpg
END:VEVENT
BEGIN:VEVENT
DTSTART;TZID=Europe/Zagreb:20240712T090000
DTEND;TZID=Europe/Zagreb:20240712T120000
DTSTAMP:20260420T034607
CREATED:20240109T083521Z
LAST-MODIFIED:20240109T083521Z
UID:4925-1720774800-1720785600@medical-studies-in-english.com
SUMMARY:Summer entrance exam
DESCRIPTION:
URL:https://medical-studies-in-english.com/event/summer-entrance-exam-5/
ATTACH;FMTTYPE=image/jpeg:https://medical-studies-in-english.com/wp-content/uploads/2017/08/academic-calendar.jpg
END:VEVENT
BEGIN:VEVENT
DTSTART;TZID=Europe/Zagreb:20240710T140000
DTEND;TZID=Europe/Zagreb:20240710T150000
DTSTAMP:20260420T034607
CREATED:20240109T083411Z
LAST-MODIFIED:20240109T083428Z
UID:4922-1720620000-1720623600@medical-studies-in-english.com
SUMMARY:Trial entrance exam test
DESCRIPTION:
URL:https://medical-studies-in-english.com/event/trial-entrance-exam-test-2/
ATTACH;FMTTYPE=image/jpeg:https://medical-studies-in-english.com/wp-content/uploads/2017/08/academic-calendar.jpg
END:VEVENT
BEGIN:VEVENT
DTSTART;TZID=Europe/Zagreb:20240708T090000
DTEND;TZID=Europe/Zagreb:20240711T180000
DTSTAMP:20260420T034607
CREATED:20240109T083322Z
LAST-MODIFIED:20240109T083322Z
UID:4919-1720429200-1720720800@medical-studies-in-english.com
SUMMARY:Intensive preparatory course in the fields of Biology\, Chemistry and Physics - SUMMER TERM
DESCRIPTION:
URL:https://medical-studies-in-english.com/event/intensive-preparatory-course-in-the-fields-of-biology-chemistry-and-physics-summer-term-3/
ATTACH;FMTTYPE=image/jpeg:https://medical-studies-in-english.com/wp-content/uploads/2017/08/academic-calendar.jpg
END:VEVENT
BEGIN:VEVENT
DTSTART;VALUE=DATE:20240628
DTEND;VALUE=DATE:20240629
DTSTAMP:20260420T034607
CREATED:20240109T083136Z
LAST-MODIFIED:20240109T083136Z
UID:4916-1719532800-1719532800@medical-studies-in-english.com
SUMMARY:Deadline for submitting documents for summer entrance exam
DESCRIPTION:
URL:https://medical-studies-in-english.com/event/deadline-for-submitting-documents-for-summer-entrance-exam-4/
ATTACH;FMTTYPE=image/jpeg:https://medical-studies-in-english.com/wp-content/uploads/2017/08/academic-calendar.jpg
END:VEVENT
BEGIN:VEVENT
DTSTART;VALUE=DATE:20240617
DTEND;VALUE=DATE:20240720
DTSTAMP:20260420T034607
CREATED:20240109T083050Z
LAST-MODIFIED:20240109T083050Z
UID:4913-1718582400-1721433599@medical-studies-in-english.com
SUMMARY:Summer exam period (no classes)
DESCRIPTION:
URL:https://medical-studies-in-english.com/event/summer-exam-period-no-classes-2/
ATTACH;FMTTYPE=image/jpeg:https://medical-studies-in-english.com/wp-content/uploads/2017/08/academic-calendar.jpg
END:VEVENT
BEGIN:VEVENT
DTSTART;VALUE=DATE:20240515
DTEND;VALUE=DATE:20240516
DTSTAMP:20260420T034607
CREATED:20240109T082923Z
LAST-MODIFIED:20240109T082923Z
UID:4910-1715731200-1715817599@medical-studies-in-english.com
SUMMARY:2nd CALL FOR APPLICATIONS FOR ACADEMIC YEAR 2024/2025 - SUMMER ENTRANCE EXAM TERM
DESCRIPTION:2nd CALL FOR APPLICATIONS FOR ACADEMIC YEAR 2024/2025 – SUMMER ENTRANCE EXAM TERM
URL:https://medical-studies-in-english.com/event/2nd-call-for-applications-for-academic-year-2024-2025-summer-entrance-exam-term/
ATTACH;FMTTYPE=image/jpeg:https://medical-studies-in-english.com/wp-content/uploads/2017/08/academic-calendar.jpg
END:VEVENT
BEGIN:VEVENT
DTSTART;TZID=Europe/Zagreb:20240513T080000
DTEND;TZID=Europe/Zagreb:20240513T160000
DTSTAMP:20260420T034607
CREATED:20240109T082830Z
LAST-MODIFIED:20240109T082830Z
UID:4907-1715587200-1715616000@medical-studies-in-english.com
SUMMARY:Results of spring entrance exam
DESCRIPTION:
URL:https://medical-studies-in-english.com/event/results-of-spring-entrance-exam-4/
ATTACH;FMTTYPE=image/jpeg:https://medical-studies-in-english.com/wp-content/uploads/2017/08/academic-calendar.jpg
END:VEVENT
BEGIN:VEVENT
DTSTART;TZID=Europe/Zagreb:20240510T090000
DTEND;TZID=Europe/Zagreb:20240510T120000
DTSTAMP:20260420T034607
CREATED:20240109T082722Z
LAST-MODIFIED:20240109T082722Z
UID:4904-1715331600-1715342400@medical-studies-in-english.com
SUMMARY:Spring entrance exam
DESCRIPTION:
URL:https://medical-studies-in-english.com/event/spring-entrance-exam-5/
ATTACH;FMTTYPE=image/jpeg:https://medical-studies-in-english.com/wp-content/uploads/2017/08/academic-calendar.jpg
END:VEVENT
BEGIN:VEVENT
DTSTART;TZID=Europe/Zagreb:20240508T140000
DTEND;TZID=Europe/Zagreb:20240508T150000
DTSTAMP:20260420T034607
CREATED:20240109T082638Z
LAST-MODIFIED:20240109T082638Z
UID:4901-1715176800-1715180400@medical-studies-in-english.com
SUMMARY:Trial entrance exam test
DESCRIPTION:
URL:https://medical-studies-in-english.com/event/trial-entrance-exam-test/
ATTACH;FMTTYPE=image/jpeg:https://medical-studies-in-english.com/wp-content/uploads/2017/08/academic-calendar.jpg
END:VEVENT
BEGIN:VEVENT
DTSTART;TZID=Europe/Zagreb:20240506T090000
DTEND;TZID=Europe/Zagreb:20240509T180000
DTSTAMP:20260420T034607
CREATED:20240109T082538Z
LAST-MODIFIED:20240109T082538Z
UID:4898-1714986000-1715277600@medical-studies-in-english.com
SUMMARY:Intensive preparatory course in the fields of Biology\, Chemistry and Physics - SPRING TERM
DESCRIPTION:
URL:https://medical-studies-in-english.com/event/intensive-preparatory-course-in-the-fields-of-biology-chemistry-and-physics-spring-term-5/
ATTACH;FMTTYPE=image/jpeg:https://medical-studies-in-english.com/wp-content/uploads/2017/08/academic-calendar.jpg
END:VEVENT
BEGIN:VEVENT
DTSTART;VALUE=DATE:20240426
DTEND;VALUE=DATE:20240427
DTSTAMP:20260420T034607
CREATED:20240109T082435Z
LAST-MODIFIED:20240109T082435Z
UID:4895-1714089600-1714175999@medical-studies-in-english.com
SUMMARY:Deadline for submitting documents for spring entrance exam
DESCRIPTION:
URL:https://medical-studies-in-english.com/event/deadline-for-submitting-documents-for-spring-entrance-exam-4/
ATTACH;FMTTYPE=image/jpeg:https://medical-studies-in-english.com/wp-content/uploads/2017/08/academic-calendar.jpg
END:VEVENT
BEGIN:VEVENT
DTSTART;VALUE=DATE:20240422
DTEND;VALUE=DATE:20240423
DTSTAMP:20260420T034607
CREATED:20240109T082357Z
LAST-MODIFIED:20240109T082357Z
UID:4892-1713744000-1713830399@medical-studies-in-english.com
SUMMARY:Earth Day
DESCRIPTION:
URL:https://medical-studies-in-english.com/event/earth-day-2/
ATTACH;FMTTYPE=image/jpeg:https://medical-studies-in-english.com/wp-content/uploads/2017/08/academic-calendar.jpg
END:VEVENT
BEGIN:VEVENT
DTSTART;VALUE=DATE:20240401
DTEND;VALUE=DATE:20240402
DTSTAMP:20260420T034607
CREATED:20240108T115931Z
LAST-MODIFIED:20240108T115931Z
UID:4889-1711929600-1712015999@medical-studies-in-english.com
SUMMARY:Easter Monday
DESCRIPTION:
URL:https://medical-studies-in-english.com/event/easter-monday/
ATTACH;FMTTYPE=image/jpeg:https://medical-studies-in-english.com/wp-content/uploads/2017/08/academic-calendar.jpg
END:VEVENT
BEGIN:VEVENT
DTSTART;VALUE=DATE:20240331
DTEND;VALUE=DATE:20240401
DTSTAMP:20260420T034607
CREATED:20240108T115857Z
LAST-MODIFIED:20240108T115857Z
UID:4886-1711843200-1711929599@medical-studies-in-english.com
SUMMARY:Easter
DESCRIPTION:
URL:https://medical-studies-in-english.com/event/easter/
ATTACH;FMTTYPE=image/jpeg:https://medical-studies-in-english.com/wp-content/uploads/2017/08/academic-calendar.jpg
END:VEVENT
BEGIN:VEVENT
DTSTART;VALUE=DATE:20240308
DTEND;VALUE=DATE:20240309
DTSTAMP:20260420T034607
CREATED:20240108T115722Z
LAST-MODIFIED:20240108T115735Z
UID:4882-1709856000-1709942399@medical-studies-in-english.com
SUMMARY:International Womenʹs Day
DESCRIPTION:
URL:https://medical-studies-in-english.com/event/international-women%ca%b9s-day-2/
END:VEVENT
BEGIN:VEVENT
DTSTART;TZID=Europe/Zagreb:20240307T110000
DTEND;TZID=Europe/Zagreb:20240307T130000
DTSTAMP:20260420T034607
CREATED:20240228T092720Z
LAST-MODIFIED:20240228T092758Z
UID:5071-1709809200-1709816400@medical-studies-in-english.com
SUMMARY:ERASMUS INFO DAY - 07/03/2024
DESCRIPTION:
URL:https://medical-studies-in-english.com/event/erasmus-info-day-07-03-2024/
LOCATION:University of Rijeka Faculty of Medicine\, Braće Branchetta 20/1\, Rijeka\, Primorsko-goranska\, 51000\, Croatia (Local Name: Hrvatska)
ATTACH;FMTTYPE=image/jpeg:https://medical-studies-in-english.com/wp-content/uploads/2020/05/med_ri_zgrada1.jpg
END:VEVENT
BEGIN:VEVENT
DTSTART;VALUE=DATE:20240304
DTEND;VALUE=DATE:20240615
DTSTAMP:20260420T034607
CREATED:20240108T115627Z
LAST-MODIFIED:20240108T115627Z
UID:4879-1709510400-1718409599@medical-studies-in-english.com
SUMMARY:2024 SUMMER SEMESTER - Teaching period
DESCRIPTION:2024 SUMMER SEMESTER – Teaching period
URL:https://medical-studies-in-english.com/event/2024-summer-semester-teaching-period/
LOCATION:University of Rijeka Faculty of Medicine\, Braće Branchetta 20/1\, Rijeka\, Primorsko-goranska\, 51000\, Croatia (Local Name: Hrvatska)
ATTACH;FMTTYPE=image/jpeg:https://medical-studies-in-english.com/wp-content/uploads/2017/08/academic-calendar.jpg
END:VEVENT
BEGIN:VEVENT
DTSTART;VALUE=DATE:20240203
DTEND;VALUE=DATE:20250224
DTSTAMP:20260420T034607
CREATED:20240917T091917Z
LAST-MODIFIED:20240917T091955Z
UID:5294-1706918400-1740355199@medical-studies-in-english.com
SUMMARY:WINTER EXAM PERIOD (NO CLASSES)
DESCRIPTION:
URL:https://medical-studies-in-english.com/event/winter-exam-period-no-classes-3/
LOCATION:University of Rijeka Faculty of Medicine\, Braće Branchetta 20/1\, Rijeka\, Primorsko-goranska\, 51000\, Croatia (Local Name: Hrvatska)
ATTACH;FMTTYPE=image/jpeg:https://medical-studies-in-english.com/wp-content/uploads/2017/08/academic-calendar.jpg
END:VEVENT
BEGIN:VEVENT
DTSTART;VALUE=DATE:20240201
DTEND;VALUE=DATE:20240202
DTSTAMP:20260420T034607
CREATED:20240108T115455Z
LAST-MODIFIED:20240108T115455Z
UID:4876-1706745600-1706745600@medical-studies-in-english.com
SUMMARY:1st CALL FOR APPLICATIONS FOR ACADEMIC YEAR 2024/2025 - SPRING ENTRANCE EXAM TERM
DESCRIPTION:1st CALL FOR APPLICATIONS FOR ACADEMIC YEAR 2024/2025- SPRING ENTRANCE EXAM TERM
URL:https://medical-studies-in-english.com/event/1st-call-for-applications-for-academic-year-2024-2025-spring-entrance-exam-term/
LOCATION:University of Rijeka Faculty of Medicine\, Braće Branchetta 20/1\, Rijeka\, Primorsko-goranska\, 51000\, Croatia (Local Name: Hrvatska)
ATTACH;FMTTYPE=image/jpeg:https://medical-studies-in-english.com/wp-content/uploads/2017/08/academic-calendar.jpg
END:VEVENT
BEGIN:VEVENT
DTSTART;VALUE=DATE:20240129
DTEND;VALUE=DATE:20240302
DTSTAMP:20260420T034607
CREATED:20240108T114900Z
LAST-MODIFIED:20240108T114900Z
UID:4873-1706486400-1709337599@medical-studies-in-english.com
SUMMARY:Winter exam period (no classes)
DESCRIPTION:Winter exam period (no classes)
URL:https://medical-studies-in-english.com/event/winter-exam-period-no-classes-2/
LOCATION:University of Rijeka Faculty of Medicine\, Braće Branchetta 20/1\, Rijeka\, Primorsko-goranska\, 51000\, Croatia (Local Name: Hrvatska)
ATTACH;FMTTYPE=image/jpeg:https://medical-studies-in-english.com/wp-content/uploads/2017/08/academic-calendar.jpg
END:VEVENT
BEGIN:VEVENT
DTSTART;VALUE=DATE:20240124
DTEND;VALUE=DATE:20240125
DTSTAMP:20260420T034607
CREATED:20240108T114154Z
LAST-MODIFIED:20240108T114154Z
UID:4870-1706054400-1706140799@medical-studies-in-english.com
SUMMARY:International Day of Education
DESCRIPTION:International Day of Education
URL:https://medical-studies-in-english.com/event/international-day-of-education-2/
ATTACH;FMTTYPE=image/jpeg:https://medical-studies-in-english.com/wp-content/uploads/2017/08/academic-calendar.jpg
END:VEVENT
BEGIN:VEVENT
DTSTART;VALUE=DATE:20231210
DTEND;VALUE=DATE:20231211
DTSTAMP:20260420T034607
CREATED:20221021T125306Z
LAST-MODIFIED:20221021T125306Z
UID:4350-1702166400-1702252799@medical-studies-in-english.com
SUMMARY:Human Rights Day
DESCRIPTION:
URL:https://medical-studies-in-english.com/event/human-rights-day-2/
END:VEVENT
BEGIN:VEVENT
DTSTART;TZID=Europe/Zagreb:20231204T123000
DTEND;TZID=Europe/Zagreb:20231204T123000
DTSTAMP:20260420T034607
CREATED:20231121T102249Z
LAST-MODIFIED:20231121T102249Z
UID:4836-1701693000-1701693000@medical-studies-in-english.com
SUMMARY:ERASMUS INFO DAY – 04.12.2023
DESCRIPTION:Dear students\, \nit is our pleasure to invite you to Erasmus+ Info Day\, which will be held on Monday\, 4 December 2023 from 12:30 am to 13:30 pm in hybrid form – onsite in lecture room 9 and online at the following link: \nTopic: Erasmus Info Day \nTime: Dec 4\, 2023 12:30 AM Zagreb \nJoin Zoom Meeting \nhttps://us06web.zoom.us/j/83105671419?pwd=hksmNbQEzhwwIea5vEeXkXXnxhEFMw.1 \nMeeting ID: 831 0567 1419 \nPasscode: 674883 \nThere will also be an Erasmus stand on the ground floor of the Faculty of Medicine’s main building. \nWe will present the three most popular Erasmus+ student mobility programmes: Erasmus+ student mobility for studies\, Erasmus+ student mobility for traineeship and Erasmus+ blended intensive programmes. \nThis is an opportunity for you to find out all the information about how to study abroad for one semester or the entire academic year\, how to attend a traineeship programme\, how to apply for an Erasmus mobility programme and get answers to all your questions. \nThe majority of this event will focus on our students’ stories and experiences. \nJoin us\, get informed and become an Erasmus student!
URL:https://medical-studies-in-english.com/event/erasmus-info-day-04-12-2023/
LOCATION:University of Rijeka Faculty of Medicine\, Braće Branchetta 20/1\, Rijeka\, Primorsko-goranska\, 51000\, Croatia (Local Name: Hrvatska)
END:VEVENT
BEGIN:VEVENT
DTSTART;VALUE=DATE:20231116
DTEND;VALUE=DATE:20231117
DTSTAMP:20260420T034607
CREATED:20221021T125244Z
LAST-MODIFIED:20221021T125244Z
UID:4347-1700092800-1700179199@medical-studies-in-english.com
SUMMARY:International Day for Tolerence
DESCRIPTION:
URL:https://medical-studies-in-english.com/event/international-day-for-tolerence-2/
END:VEVENT
BEGIN:VEVENT
DTSTART;VALUE=DATE:20231010
DTEND;VALUE=DATE:20231011
DTSTAMP:20260420T034607
CREATED:20221021T125218Z
LAST-MODIFIED:20221021T125218Z
UID:4344-1696896000-1696982399@medical-studies-in-english.com
SUMMARY:World Mental Health Day
DESCRIPTION:
URL:https://medical-studies-in-english.com/event/world-mental-health-day-2/
END:VEVENT
END:VCALENDAR